Workbook

Sheet Overall
D2: NORTHERN RIVERS QUALIFIER 1 - 21ST JULY 2018
D4: OVERALL RESULTS
G5: Fish
A6: Position | B6: Name | E6: Group | G6: Points | I6: Percentage
A8: 1 | B8: =Group!A34 -> Mike Dixon | E8: PM | G8: =Group!G34 -> 758 | I8: =Group!I34 -> 0.4194798
A9: 2 | B9: =Group!A14 -> Chris Richardson | E9: AM | G9: =Group!G14 -> 744 | I9: =Group!I14 -> 0.23019802
A10: 3 | B10: =Group!A17 -> Paul Fairhurst | E10: AM | G10: =Group!G17 -> 670 | I10: =Group!I17 -> 0.20730198
A11: 4 | B11: =Group!A36 -> Simon Clarke | E11: PM | G11: =Group!G36 -> 320 | I11: =Group!I36 -> 0.1770891
A12: 5 | B12: =Group!A13 -> Carl Nixon | E12: AM | G12: =Group!G13 -> 471 | I12: =Group!I13 -> 0.1457302
A13: 6 | B13: =Group!A35 -> Simon Caddy | E13: PM | G13: =Group!G35 -> 201 | I13: =Group!I35 -> 0.11123409
A14: 7 | B14: =Group!A15 -> Chris Micillef | E14: AM | G14: =Group!G15 -> 469 | I14: =Group!I15 -> 0.14511139
A15: 8 | B15: =Group!A38 -> Graham Kennerley | E15: PM | G15: =Group!G38 -> 150 | I15: =Group!I38 -> 0.083010515
A16: 9 | B16: =Group!A18 -> Andy Taylor | E16: AM | G16: =Group!G18 -> 357 | I16: =Group!I18 -> 0.11045792
A17: 10 | B17: =Group!A39 -> Paul Trafford | E17: PM | G17: =Group!G39 -> 145 | I17: =Group!I39 -> 0.080243498
A18: 11 | B18: =Group!A16 -> Ben Race | E18: AM | G18: =Group!G16 -> 288 | I18: =Group!I16 -> 0.089108911
A19: 12 | B19: =Group!A41 -> Anthony McKenna | E19: PM | G19: =Group!G41 -> 136 | I19: =Group!I41 -> 0.075262867
A20: 13 | B20: =Group!A12 -> Keith McAdam | E20: AM | G20: =Group!G12 -> 233 | I20: =Group!I12 -> 0.072091584
A21: 14 | B21: =Group!A37 -> Gary Hedges | E21: PM | G21: =Group!G37 -> 97 | I21: =Group!I37 -> 0.053680133
A22: 15 | B22: =Group!A40 -> Kevin Moran | E22: PM | G22: =Group!G40 -> 0 | I22: =Group!I40 -> 0
A23: 16 | B23: =Group!A19 -> 0 | E23: AM | G23: =Group!G19 -> 0 | I23: =Group!I19 -> 0

Sheet Group
D2: NORTHERN RIVERS QUALIFIER 1 - 21ST JULY 2018
D4: GROUP RESULTS
A6: AM GROUP
E9: No of | G9: Fish
A10: Name | E10: Fish | G10: Points | I10: Percentage
A12: Keith McAdam | E12: 5 | G12: =100+29+21+31+20+32 -> 233 | I12: =G12/G21 -> 0.072091584
A13: Carl Nixon | E13: 9 | G13: =180+34+36+22+34+36+37+31+35+26 -> 471 | I13: =G13/G21 -> 0.1457302
A14: Chris Richardson | E14: 15 | G14: =300+31+29+31+30+30+30+21+33+32+32+32+32+27+31+23 -> 744 | I14: =G14/G21 -> 0.23019802
A15: Chris Micillef | E15: 9 | G15: =180+37+41+32+32+31+33+31+31+21 -> 469 | I15: =G15/G21 -> 0.14511139
A16: Ben Race | E16: 6 | G16: =120+24+31+32+24+26+31 -> 288 | I16: =G16/G21 -> 0.089108911
A17: Paul Fairhurst | E17: 14 | G17: =280+31+28+26+24+28+30+23+28+27+22+31+32+31+29 -> 670 | I17: =G17/G21 -> 0.20730198
A18: Andy Taylor | E18: 7 | G18: =140+31+32+33+29+30+31+31 -> 357 | I18: =G18/G21 -> 0.11045792
A19: =Group!A22 -> 0 | I19: =G19/G21 -> 0
E21: =SUM(E12:E18) -> 65 | G21: =SUM(G12:G19) -> 3232 | I21: =SUM(I12:I19) -> 1
D24: =D2 -> NORTHERN RIVERS QUALIFIER 1 - 21ST JULY 2018
D26: GROUP RESULTS
A28: PM GROUP
E31: No of | G31: Fish
A32: Name | E32: Fish | G32: Points | I32: Percentage
A34: Mike Dixon | E34: 16 | G34: =320+29+24+27+24+29+20+21+37+28+22+22+30+31+29+28+37 -> 758 | I34: =G34/G43 -> 0.4194798
A35: Simon Caddy | E35: 4 | G35: =80+32+32+23+34 -> 201 | I35: =G35/G43 -> 0.11123409
A36: Simon Clarke | E36: 7 | G36: =140+22+21+24+30+31+31+21 -> 320 | I36: =G36/G43 -> 0.1770891
A37: Gary Hedges | E37: 2 | G37: =40+28+29 -> 97 | I37: =G37/G43 -> 0.053680133
A38: Graham Kennerley | E38: 3 | G38: =60+31+31+28 -> 150 | I38: =G38/G43 -> 0.083010515
A39: Paul Trafford | E39: 3 | G39: =60+20+32+33 -> 145 | I39: =G39/G43 -> 0.080243498
A40: Kevin Moran | E40: 0 | G40: 0 | I40: =G40/G43 -> 0
A41: Anthony McKenna | E41: 3 | G41: =60+24+22+30 -> 136 | I41: =G41/G43 -> 0.075262867
E43: =SUM(E34:E41) -> 38 | G43: =SUM(G34:G41) -> 1807 | I43: =SUM(I34:I41) -> 1

Sheet Pairings
A2: =Group!D2 -> NORTHERN RIVERS QUALIFIER 1 - 21ST JULY 2018
C4: AM PAIRINGS
A6: ANGLER | E6: CONTROLLER
A9: Keith McAdam | E9: =Group!A36 -> Simon Clarke
A10: Carl Nixon | E10: =Group!A37 -> Gary Hedges
A11: Chris Richardson | E11: =Group!A38 -> Graham Kennerley
A12: Chris Micillef | E12: =Group!A39 -> Paul Trafford
A13: Ben Race | E13: =Group!A40 -> Kevin Moran
A14: Paul Fairhurst | E14: =Group!A41 -> Anthony McKenna
A15: Andy Taylor | E15: =Group!A34 -> Mike Dixon
A16: =Group!A19 -> 0 | E16: =Group!A35 -> Simon Caddy
A22: =A2 -> NORTHERN RIVERS QUALIFIER 1 - 21ST JULY 2018
C24: PM PAIRINGS
A26: ANGLER | E26: CONTROLLER
A28: Mike Dixon | E28: =Group!A12 -> Keith McAdam
A29: Simon Caddy | E29: =Group!A13 -> Carl Nixon
A30: Simon Clarke | E30: =Group!A14 -> Chris Richardson
A31: Gary Hedges | E31: =Group!A15 -> Chris Micillef
A32: Graham Kennerley | E32: =Group!A16 -> Ben Race
A33: Paul Trafford | E33: =Group!A17 -> Paul Fairhurst
A34: Kevin Moran | E34: =Group!A18 -> Andy Taylor
A35: Anthony McKenna | E35: =Group!A19 -> 0
