Workbook

Sheet Overall
C2: SEVERN TRENT RIVERS QUALIFIER 12th MARCH 2017
D4: OVERALL RESULTS
G5: Fish
A6: Position | B6: Name | E6: Group | F6: Fish | G6: Points | I6: Percentage
A8: 1 | B8: =Group!A16 -> Trevor Hayman | E8: AM | F8: =Group!E16 -> 9 | G8: =Group!G16 -> 472 | I8: =Group!I16 -> 0.33908046
A9: 2 | B9: =Group!A46 -> Stan Moore | E9: PM | F9: =Group!E46 -> 6 | G9: =Group!G46 -> 300 | I9: =Group!I46 -> 0.22438295
A10: 3 | B10: =Group!A13 -> Martin Dixon | E10: AM | F10: =Group!E13 -> 8 | G10: =Group!G13 -> 391 | I10: =Group!I13 -> 0.2808908
A11: 4 | B11: =Group!A41 -> Gavin Walsh | E11: PM | F11: =Group!E41 -> 5 | G11: =Group!G41 -> 242 | I11: =Group!I41 -> 0.18100224
A12: 5 | B12: =Group!A42 -> Mike Dixon | E12: PM | F12: =Group!E42 -> 5 | G12: =Group!G42 -> 236 | I12: =Group!I42 -> 0.17651458
A13: 6 | B13: =Group!A17 -> Gary Hedges | E13: AM | F13: =Group!E17 -> 4 | G13: =Group!G17 -> 211 | I13: =Group!I17 -> 0.15158046
A14: 7 | B14: =Group!A12 -> Anthiny McKenna | E14: AM | F14: =Group!E12 -> 4 | G14: =Group!G12 -> 209 | I14: =Group!I12 -> 0.15014368
A15: 8 | B15: =Group!A40 -> Simon Caddy | E15: PM | F15: =Group!E40 -> 4 | G15: =Group!G40 -> 199 | I15: =Group!I40 -> 0.14884069
A16: 9 | B16: =Group!A43 -> Graham Willis | E16: PM | F16: =Group!E43 -> 3 | G16: =Group!G43 -> 153 | I16: =Group!I43 -> 0.1144353
A17: 10 | B17: =Group!A15 -> Paul Trafford | E17: AM | F17: =Group!E15 -> 1 | G17: =Group!G15 -> 55 | I17: =Group!I15 -> 0.039511494
A18: 11 | B18: =Group!A45 -> Graham Kennerly | E18: PM | F18: =Group!E45 -> 2 | G18: =Group!G45 -> 106 | I18: =Group!I45 -> 0.079281975
A19: 12 | B19: =Group!A14 -> Daniel Hall | E19: AM | F19: =Group!E14 -> 1 | G19: =Group!G14 -> 54 | I19: =Group!I14 -> 0.038793103
A20: 13 | B20: =Group!A44 -> Tom Gott | E20: PM | F20: =Group!E44 -> 2 | G20: =Group!G44 -> 101 | I20: =Group!I44 -> 0.075542259
A21: 14 | B21: =Group!A18 -> Mason Mason | E21: AM | F21: =Group!E18 -> 0 | G21: =Group!G18 -> 0 | I21: =Group!I18 -> 0
A22: 15 | B22: =Group!A47 -> Simon Clarke | E22: PM | F22: =Group!E47 -> 0 | G22: =Group!G47 -> 0 | I22: =Group!I47 -> 0
D28: Total Fish | F28: =SUM(F8:F21) -> 54

Sheet Group
C2: SEVERN TRENT RIVERS QUALIFIER - 12TH MARCH 2017
D4: GROUP RESULTS
A6: AM GROUP
E9: No of | G9: Fish
A10: Name | E10: b | G10: Points | I10: Percentage
A12: Anthiny McKenna | E12: 4 | G12: 209 | I12: =G12/G27 -> 0.15014368
A13: Martin Dixon | E13: 8 | G13: 391 | I13: =G13/G27 -> 0.2808908
A14: Daniel Hall | E14: 1 | G14: 54 | I14: =G14/G27 -> 0.038793103
A15: Paul Trafford | E15: 1 | G15: 55 | I15: =G15/G27 -> 0.039511494
A16: Trevor Hayman | E16: 9 | G16: 472 | I16: =G16/G27 -> 0.33908046
A17: Gary Hedges | E17: 4 | G17: 211 | I17: =G17/G27 -> 0.15158046
A18: Mason Mason | E18: 0 | G18: 0 | I18: =G18/G27 -> 0
I19: =G19/G27 -> 0
I20: =G20/G27 -> 0
I21: =G21/G27 -> 0
I22: =G22/G27 -> 0
I23: =G23/G27 -> 0
E27: =SUM(E12:E25) -> 27 | G27: =SUM(G12:G25) -> 1392 | I27: =SUM(I12:I25) -> 1
C30: SEVERN TRENT RIVERS QUALIFIER - 12TH MARCH 2017
D32: GROUP RESULTS
A34: PM GROUP
E37: No of | G37: Fish
A38: Name | E38: Fish | G38: Points | I38: Percentage
A40: Simon Caddy | E40: 4 | G40: 199 | I40: =G40/G54 -> 0.14884069
A41: Gavin Walsh | E41: 5 | G41: =100+33+36+21+25+27 -> 242 | I41: =G41/G54 -> 0.18100224
A42: Mike Dixon | E42: 5 | G42: 236 | I42: =G42/G54 -> 0.17651458
A43: Graham Willis | E43: 3 | G43: 153 | I43: =G43/G54 -> 0.1144353
A44: Tom Gott | E44: 2 | G44: 101 | I44: =G44/G54 -> 0.075542259
A45: Graham Kennerly | E45: 2 | G45: 106 | I45: =G45/G54 -> 0.079281975
A46: Stan Moore | E46: 6 | G46: 300 | I46: =G46/G54 -> 0.22438295
A47: Simon Clarke | E47: 0 | G47: 0 | I47: =G47/G54 -> 0
I48: 0
I49: =G49/G54 -> 0
I50: =G50/G54 -> 0
I51: =G51/G54 -> 0
E54: =SUM(E39:E52) -> 27 | G54: =SUM(G40:G52) -> 1337 | I54: =SUM(I40:I52) -> 1

Sheet Pairings
B2: SEVERN TRENT RIVERS QUALIFIER - 13TH NOVEMBER 2016
D4: AM PAIRINGS
A6: PREF | B6: ANGLER | F6: CONTROLLER
A9: 1
A10: 2
A11: 3
A12: 4
A13: 5
A14: 6
A15: 7
A16: 8
A17: 9
A18: 10
A19: 11
B26: SEVERN TRENT RIVERS QUALIFIER - 13TH NOVEMBER 2016
D28: PM PAIRINGS
A30: PREF | B30: ANGLER | F30: CONTROLLER
A33: 1
A34: 2
A35: 3
A36: 4
A37: 5
A38: 6
A39: 7
A40: 8
A41: 9
A42: 10
A43: 11
J48: tg
